BEGIN:VCALENDAR
VERSION:2.0
CALSCALE:GREGORIAN
METHOD:PUBLISH
PRODID://IUG//471077
BEGIN:VEVENT
DTSTAMP:20260421T094915
VTIMEZONE:America/New_York
DTSTART:20251218T180000Z
DTEND:20251218T190000Z
UID:471077
SUMMARY:IUG Forum: Festivus - The Airing of Grievances
LOCATION:
DESCRIPTION:IUG Forum: Festivus - The Airing of Grievances\n\n12/18/25 01:00 PM EST\n - 12/18/25 02:00 PM EST\Description:\nIUG Forum: Festivus - The Airing of Grievances\n\nPlease join us on Zoom to air your grievances - whether related to your ILS, discovery layer, other library tech, or anything else related to library life that has been driving you up the wall. Share your pain, commiserate with colleagues, and celebrate our Festivus the way library workers do - together!\Details:\nIUG Forum: Festivus - The Airing of Grievances\n\nPlease join us on Zoom to air your grievances - whether related to your ILS, discovery layer, other library tech, or anything else related to library life that has been driving you up the wall. Share your pain, commiserate with colleagues, and celebrate our Festivus the way library workers do - together!
X-ALT-DESC;FMTTYPE=text/html:IUG Forum: Festivus - The Airing of Grievances<br /><br />12/18/25 01:00 PM EST - 12/18/25 02:00 PM EST<br />Description:<br /><strong>IUG Forum: Festivus - The Airing of Grievances</strong><br />
<br />
Please join us on Zoom to air your grievances - whether related to your ILS, discovery layer, other library tech, or anything else related to library life that has been driving you up the wall. Share your pain, commiserate with colleagues, and celebrate our Festivus the way library workers do - together!<br />Details:<br /><strong>IUG Forum: Festivus - The Airing of Grievances</strong><br />
<br />
Please join us on Zoom to air your grievances - whether related to your ILS, discovery layer, other library tech, or anything else related to library life that has been driving you up the wall. Share your pain, commiserate with colleagues, and celebrate our Festivus the way library workers do - together!
PRIORITY:3
TRANSP:TRANSPARENT
BEGIN:VALARM
TRIGGER:-PT5M
ACTION:DISPLAY
DESCRIPTION:Reminder
END:VALARM
END:VEVENT
END:VCALENDAR
