BEGIN:VCALENDAR
VERSION:2.0
CALSCALE:GREGORIAN
METHOD:PUBLISH
PRODID://IUG//450882
BEGIN:VEVENT
DTSTAMP:20260421T130744
VTIMEZONE:America/Chicago
DTSTART:20251024T143000Z
DTEND:20251024T180000Z
UID:450882
SUMMARY:WILIUG Regional Fall Conference
LOCATION:
DESCRIPTION:WILIUG Regional Fall Conference\n\n10/24/25 09:30 AM CST\n - 10/24/25 01:00 PM CST\Description:\nThe WILIUG Fall Meeting will take place on Friday, October 24.  This virtual meeting will feature live sessions, ILS-specific forums, and a presentation from Innovative. Registration is free! Click here to check your membership status or become a member.\n\nThe full agenda, as well as registration, will be available in September. Watch your inbox for updates! Agenda and registration links will also be available on the WILIUG website.\n\nCall for Quick Hits Presenters\n\nGot a clever idea, project, or tip to share? We’re looking for presenters for our Quick Hits sessions—brief, 10 minute virtual presentations via Zoom that will be featured during the Fall Meeting.\n\nThis year, we’re focusing on these short, impactful talks instead of full-length presentations. It’s a great way to highlight a special project, creative ILS workaround, practical tip, or anything unique your library is doing!\n\nOther suggestions for topics include: customization of your Find Tool, working with pick-up locations in Polaris 7.5, or API ordering setup with Baker and Taylor.  Both Sierra and Polaris topics are encouraged!\n\nSubmit your proposal here by September 30. Preference given to proposals received by September 5.\n\nWe look forward to seeing you this October!\n\Details:\nThe WILIUG Fall Meeting will take place on Friday, October 24.  This virtual meeting will feature live sessions, ILS-specific forums, and a presentation from Innovative. Registration is free! Click here to check your membership status or become a member.\n\nThe full agenda, as well as registration, will be available in September. Watch your inbox for updates! Agenda and registration links will also be available on the WILIUG website.\n\nCall for Quick Hits Presenters\n\nGot a clever idea, project, or tip to share? We’re looking for presenters for our Quick Hits sessions—brief, 10 minute virtual presentations via Zoom that will be featured during the Fall Meeting.\n\nThis year, we’re focusing on these short, impactful talks instead of full-length presentations. It’s a great way to highlight a special project, creative ILS workaround, practical tip, or anything unique your library is doing!\n\nOther suggestions for topics include: customization of your Find Tool, working with pick-up locations in Polaris 7.5, or API ordering setup with Baker and Taylor.  Both Sierra and Polaris topics are encouraged!\n\nSubmit your proposal here by September 30. Preference given to proposals received by September 5.\n\nWe look forward to seeing you this October!\n
X-ALT-DESC;FMTTYPE=text/html:WILIUG Regional Fall Conference<br /><br />10/24/25 09:30 AM CST - 10/24/25 01:00 PM CST<br />Description:<br /><p>The WILIUG Fall Meeting will take place on&nbsp;<strong>Friday, October 24</strong>.&nbsp; This virtual meeting will feature live sessions, ILS-specific forums, and a presentation from Innovative. Registration is free!&nbsp;<strong><a href="https://wiliug.wordpress.com/membership/">Click here</a></strong>&nbsp;to check your membership status or become a member.</p>

<p>The full agenda, as well as registration, will be available in September. Watch your inbox for updates! Agenda and registration links will also be available on the WILIUG website.</p>

<p><strong>Call for Quick Hits Presenters</strong></p>

<p>Got a clever idea, project, or tip to share? We&rsquo;re looking for presenters for our Quick Hits sessions&mdash;brief, 10 minute virtual presentations via Zoom that will be featured during the Fall Meeting.</p>

<p>This year, we&rsquo;re focusing on these short, impactful talks instead of full-length presentations. It&rsquo;s a great way to highlight a special project, creative ILS workaround, practical tip, or anything unique your library is doing!</p>

<p>Other suggestions for topics include: customization of your Find Tool, working with pick-up locations in Polaris 7.5, or API ordering setup with Baker and Taylor.&nbsp; Both Sierra and Polaris topics are encouraged!</p>

<p><strong><a href="https://form.jotform.com/252296336240152">Submit your proposal here</a>&nbsp;</strong>by&nbsp;<strong>September 30</strong>. Preference given to proposals received by&nbsp;<strong>September 5</strong>.</p>

<p>We look forward to seeing you this October!</p>
<br />Details:<br /><p>The WILIUG Fall Meeting will take place on&nbsp;<strong>Friday, October 24</strong>.&nbsp; This virtual meeting will feature live sessions, ILS-specific forums, and a presentation from Innovative. Registration is free!&nbsp;<strong><a href="https://wiliug.wordpress.com/membership/">Click here</a></strong>&nbsp;to check your membership status or become a member.</p>

<p>The full agenda, as well as registration, will be available in September. Watch your inbox for updates! Agenda and registration links will also be available on the WILIUG website.</p>

<p><strong>Call for Quick Hits Presenters</strong></p>

<p>Got a clever idea, project, or tip to share? We&rsquo;re looking for presenters for our Quick Hits sessions&mdash;brief, 10 minute virtual presentations via Zoom that will be featured during the Fall Meeting.</p>

<p>This year, we&rsquo;re focusing on these short, impactful talks instead of full-length presentations. It&rsquo;s a great way to highlight a special project, creative ILS workaround, practical tip, or anything unique your library is doing!</p>

<p>Other suggestions for topics include: customization of your Find Tool, working with pick-up locations in Polaris 7.5, or API ordering setup with Baker and Taylor.&nbsp; Both Sierra and Polaris topics are encouraged!</p>

<p><strong><a href="https://form.jotform.com/252296336240152">Submit your proposal here</a>&nbsp;</strong>by&nbsp;<strong>September 30</strong>. Preference given to proposals received by&nbsp;<strong>September 5</strong>.</p>

<p>We look forward to seeing you this October!</p>

PRIORITY:3
TRANSP:TRANSPARENT
BEGIN:VALARM
TRIGGER:-PT5M
ACTION:DISPLAY
DESCRIPTION:Reminder
END:VALARM
END:VEVENT
END:VCALENDAR
