BEGIN:VCALENDAR
VERSION:2.0
CALSCALE:GREGORIAN
METHOD:PUBLISH
PRODID://IUG//418155
BEGIN:VEVENT
DTSTAMP:20260421T100623
VTIMEZONE:America/New_York
DTSTART:20251120T200000Z
DTEND:20251120T210000Z
UID:418155
SUMMARY:IUG Forum: Preparing for year end tasks on Sierra
LOCATION:
DESCRIPTION:IUG Forum: Preparing for year end tasks on Sierra\n\n11/20/25 03:00 PM EST\n - 11/20/25 04:00 PM EST\Description:\nIUG Forum: Preparing for year end tasks on Sierra\n\nPlease join us on zoom to discuss preparing for year end tasks on Sierra. \Details:\nIUG Forum: Preparing for year end tasks on Sierra\n\nPlease join us on zoom to discuss preparing for year end tasks on Sierra. 
X-ALT-DESC;FMTTYPE=text/html:IUG Forum: Preparing for year end tasks on Sierra<br /><br />11/20/25 03:00 PM EST - 11/20/25 04:00 PM EST<br />Description:<br /><strong>IUG Forum: Preparing for year end tasks on Sierra</strong><br />
<br />
Please join us on zoom to discuss <strong>preparing for year end tasks on Sierra.&nbsp;</strong><br />Details:<br /><strong>IUG Forum: Preparing for year end tasks on Sierra</strong><br />
<br />
Please join us on zoom to discuss <strong>preparing for year end tasks on Sierra.&nbsp;</strong>
PRIORITY:3
TRANSP:TRANSPARENT
BEGIN:VALARM
TRIGGER:-PT5M
ACTION:DISPLAY
DESCRIPTION:Reminder
END:VALARM
END:VEVENT
END:VCALENDAR
