BEGIN:VCALENDAR
VERSION:2.0
CALSCALE:GREGORIAN
METHOD:PUBLISH
PRODID://IUG//418152
BEGIN:VEVENT
DTSTAMP:20260421T095946
VTIMEZONE:America/New_York
DTSTART:20251120T180000Z
DTEND:20251120T190000Z
UID:418152
SUMMARY:IUG Forum: Preparing for year end tasks on Polaris 
LOCATION:
DESCRIPTION:IUG Forum: Preparing for year end tasks on Polaris \n\n11/20/25 01:00 PM EST\n - 11/20/25 02:00 PM EST\Description:\nIUG Forum: Preparing for year end tasks on Polaris\n\nPlease join us on zoom to discuss preparing for year end tasks on Polaris. \Details:\nIUG Forum: Preparing for year end tasks on Polaris\n\nPlease join us on zoom to discuss preparing for year end tasks on Polaris. 
X-ALT-DESC;FMTTYPE=text/html:IUG Forum: Preparing for year end tasks on Polaris <br /><br />11/20/25 01:00 PM EST - 11/20/25 02:00 PM EST<br />Description:<br /><strong>IUG Forum: Preparing for year end tasks on Polaris</strong><br />
<br />
Please join us on zoom to discuss <strong>preparing for year end tasks on Polaris.&nbsp;</strong><br />Details:<br /><strong>IUG Forum: Preparing for year end tasks on Polaris</strong><br />
<br />
Please join us on zoom to discuss <strong>preparing for year end tasks on Polaris.&nbsp;</strong>
PRIORITY:3
TRANSP:TRANSPARENT
BEGIN:VALARM
TRIGGER:-PT5M
ACTION:DISPLAY
DESCRIPTION:Reminder
END:VALARM
END:VEVENT
END:VCALENDAR
